BEGIN:VCALENDAR
VERSION:2.0
PRODID:-// - ECPv6.15.20//NONSGML v1.0//EN
CALSCALE:GREGORIAN
METHOD:PUBLISH
X-ORIGINAL-URL:https://www.latelierdetatouk.com
X-WR-CALDESC:Évènements pour 
REFRESH-INTERVAL;VALUE=DURATION:PT1H
X-Robots-Tag:noindex
X-PUBLISHED-TTL:PT1H
BEGIN:VTIMEZONE
TZID:Europe/Paris
BEGIN:DAYLIGHT
TZOFFSETFROM:+0100
TZOFFSETTO:+0200
TZNAME:CEST
DTSTART:20250330T010000
END:DAYLIGHT
BEGIN:STANDARD
TZOFFSETFROM:+0200
TZOFFSETTO:+0100
TZNAME:CET
DTSTART:20251026T010000
END:STANDARD
BEGIN:DAYLIGHT
TZOFFSETFROM:+0100
TZOFFSETTO:+0200
TZNAME:CEST
DTSTART:20260329T010000
END:DAYLIGHT
BEGIN:STANDARD
TZOFFSETFROM:+0200
TZOFFSETTO:+0100
TZNAME:CET
DTSTART:20261025T010000
END:STANDARD
BEGIN:DAYLIGHT
TZOFFSETFROM:+0100
TZOFFSETTO:+0200
TZNAME:CEST
DTSTART:20270328T010000
END:DAYLIGHT
BEGIN:STANDARD
TZOFFSETFROM:+0200
TZOFFSETTO:+0100
TZNAME:CET
DTSTART:20271031T010000
END:STANDARD
END:VTIMEZONE
BEGIN:VEVENT
DTSTART;TZID=Europe/Paris:20260307T100000
DTEND;TZID=Europe/Paris:20260307T110000
DTSTAMP:20260420T171238
CREATED:20260301T173154Z
LAST-MODIFIED:20260301T173154Z
UID:792-1772877600-1772881200@www.latelierdetatouk.com
SUMMARY:Atelier sensoriel
DESCRIPTION:  \nUn moment doux et amusant pour explorer\, toucher\, transvaser et découvrir le monde avec tous ses sens. \nDe 6 mois à 3 ans. \nThème : carnaval ! \nATTENTION : pensez à réserver une place pour l’enfant ET une place pour l’adulte accompagnant.
URL:https://www.latelierdetatouk.com/accueil-planning-et-reservation/atelier-sensoriel-13/
LOCATION:L’atelier de Tatouk\, 10 rue de la Pinterie\, Fougères\, 35300\, France
CATEGORIES:Tous petits
END:VEVENT
BEGIN:VEVENT
DTSTART;TZID=Europe/Paris:20260309T103000
DTEND;TZID=Europe/Paris:20260309T113000
DTSTAMP:20260420T171238
CREATED:20260301T173349Z
LAST-MODIFIED:20260301T173349Z
UID:794-1773052200-1773055800@www.latelierdetatouk.com
SUMMARY:Atelier sensoriel
DESCRIPTION:  \nUn moment doux et amusant pour explorer\, toucher\, transvaser et découvrir le monde avec tous ses sens. \nDe 6 mois à 3 ans. \nParcours sensoriel ! \nATTENTION : pensez à réserver une place pour l’enfant ET une place pour l’adulte accompagnant.
URL:https://www.latelierdetatouk.com/accueil-planning-et-reservation/atelier-sensoriel-14/
LOCATION:L’atelier de Tatouk\, 10 rue de la Pinterie\, Fougères\, 35300\, France
CATEGORIES:Tous petits
END:VEVENT
BEGIN:VEVENT
DTSTART;TZID=Europe/Paris:20260314T110000
DTEND;TZID=Europe/Paris:20260314T120000
DTSTAMP:20260420T171238
CREATED:20260301T173658Z
LAST-MODIFIED:20260301T173658Z
UID:796-1773486000-1773489600@www.latelierdetatouk.com
SUMMARY:Atelier sensoriel
DESCRIPTION:  \nUn moment doux et amusant pour explorer\, toucher\, transvaser et découvrir le monde avec tous ses sens. \nDe 6 mois à 3 ans. \nJeux libres ! \nATTENTION : pensez à réserver une place pour l’enfant ET une place pour l’adulte accompagnant.
URL:https://www.latelierdetatouk.com/accueil-planning-et-reservation/atelier-sensoriel-15/
LOCATION:L’atelier de Tatouk\, 10 rue de la Pinterie\, Fougères\, 35300\, France
CATEGORIES:Tous petits
END:VEVENT
BEGIN:VEVENT
DTSTART;TZID=Europe/Paris:20260316T103000
DTEND;TZID=Europe/Paris:20260316T113000
DTSTAMP:20260420T171238
CREATED:20260301T173806Z
LAST-MODIFIED:20260301T173806Z
UID:797-1773657000-1773660600@www.latelierdetatouk.com
SUMMARY:Atelier sensoriel
DESCRIPTION:  \nUn moment doux et amusant pour explorer\, toucher\, transvaser et découvrir le monde avec tous ses sens. \nDe 6 mois à 3 ans. \nATTENTION : pensez à réserver une place pour l’enfant ET une place pour l’adulte accompagnant.
URL:https://www.latelierdetatouk.com/accueil-planning-et-reservation/atelier-sensoriel-16/
LOCATION:L’atelier de Tatouk\, 10 rue de la Pinterie\, Fougères\, 35300\, France
CATEGORIES:Tous petits
END:VEVENT
BEGIN:VEVENT
DTSTART;TZID=Europe/Paris:20260321T103000
DTEND;TZID=Europe/Paris:20260321T113000
DTSTAMP:20260420T171238
CREATED:20260301T173929Z
LAST-MODIFIED:20260301T173929Z
UID:798-1774089000-1774092600@www.latelierdetatouk.com
SUMMARY:Atelier sensoriel
DESCRIPTION:  \nUn moment doux et amusant pour explorer\, toucher\, transvaser et découvrir le monde avec tous ses sens. \nDe 6 mois à 3 ans. \nThème : printemps ! \nATTENTION : pensez à réserver une place pour l’enfant ET une place pour l’adulte accompagnant.
URL:https://www.latelierdetatouk.com/accueil-planning-et-reservation/atelier-sensoriel-17/
LOCATION:L’atelier de Tatouk\, 10 rue de la Pinterie\, Fougères\, 35300\, France
CATEGORIES:Tous petits
END:VEVENT
BEGIN:VEVENT
DTSTART;TZID=Europe/Paris:20260323T103000
DTEND;TZID=Europe/Paris:20260323T113000
DTSTAMP:20260420T171238
CREATED:20260301T174053Z
LAST-MODIFIED:20260301T174053Z
UID:799-1774261800-1774265400@www.latelierdetatouk.com
SUMMARY:Atelier sensoriel
DESCRIPTION:  \nUn moment doux et amusant pour explorer\, toucher\, transvaser et découvrir le monde avec tous ses sens. \nDe 6 mois à 3 ans. \nThème : Pâques ! \nATTENTION : pensez à réserver une place pour l’enfant ET une place pour l’adulte accompagnant.
URL:https://www.latelierdetatouk.com/accueil-planning-et-reservation/atelier-sensoriel-18/
LOCATION:L’atelier de Tatouk\, 10 rue de la Pinterie\, Fougères\, 35300\, France
CATEGORIES:Tous petits
END:VEVENT
BEGIN:VEVENT
DTSTART;TZID=Europe/Paris:20260328T103000
DTEND;TZID=Europe/Paris:20260328T113000
DTSTAMP:20260420T171238
CREATED:20260301T174538Z
LAST-MODIFIED:20260301T174538Z
UID:800-1774693800-1774697400@www.latelierdetatouk.com
SUMMARY:Atelier sensoriel
DESCRIPTION:  \nUn moment doux et amusant pour explorer\, toucher\, transvaser et découvrir le monde avec tous ses sens. \nDe 6 mois à 3 ans. \nThème : Pâques ! \nATTENTION : pensez à réserver une place pour l’enfant ET une place pour l’adulte accompagnant.
URL:https://www.latelierdetatouk.com/accueil-planning-et-reservation/atelier-sensoriel-19/
LOCATION:L’atelier de Tatouk\, 10 rue de la Pinterie\, Fougères\, 35300\, France
CATEGORIES:Tous petits
END:VEVENT
END:VCALENDAR