BEGIN:VCALENDAR
VERSION:2.0
PRODID:-// - ECPv6.15.20//NONSGML v1.0//EN
CALSCALE:GREGORIAN
METHOD:PUBLISH
X-ORIGINAL-URL:https://www.latelierdetatouk.com
X-WR-CALDESC:Évènements pour 
REFRESH-INTERVAL;VALUE=DURATION:PT1H
X-Robots-Tag:noindex
X-PUBLISHED-TTL:PT1H
BEGIN:VTIMEZONE
TZID:Europe/Paris
BEGIN:DAYLIGHT
TZOFFSETFROM:+0100
TZOFFSETTO:+0200
TZNAME:CEST
DTSTART:20250330T010000
END:DAYLIGHT
BEGIN:STANDARD
TZOFFSETFROM:+0200
TZOFFSETTO:+0100
TZNAME:CET
DTSTART:20251026T010000
END:STANDARD
BEGIN:DAYLIGHT
TZOFFSETFROM:+0100
TZOFFSETTO:+0200
TZNAME:CEST
DTSTART:20260329T010000
END:DAYLIGHT
BEGIN:STANDARD
TZOFFSETFROM:+0200
TZOFFSETTO:+0100
TZNAME:CET
DTSTART:20261025T010000
END:STANDARD
BEGIN:DAYLIGHT
TZOFFSETFROM:+0100
TZOFFSETTO:+0200
TZNAME:CEST
DTSTART:20270328T010000
END:DAYLIGHT
BEGIN:STANDARD
TZOFFSETFROM:+0200
TZOFFSETTO:+0100
TZNAME:CET
DTSTART:20271031T010000
END:STANDARD
END:VTIMEZONE
BEGIN:VEVENT
DTSTART;TZID=Europe/Paris:20260202T100000
DTEND;TZID=Europe/Paris:20260202T110000
DTSTAMP:20260420T185100
CREATED:20260125T223907Z
LAST-MODIFIED:20260125T223907Z
UID:671-1770026400-1770030000@www.latelierdetatouk.com
SUMMARY:Atelier sensoriel
DESCRIPTION:  \nUn moment doux et amusant pour explorer\, toucher\, transvaser et découvrir le monde avec tous ses sens. \nAtelier autour de la création d’un jus de fruits frais. \nDe 6 mois à 3 ans. \nATTENTION : pensez à réserver une place pour l’enfant ET une place pour l’adulte accompagnant.
URL:https://www.latelierdetatouk.com/accueil-planning-et-reservation/atelier-sensoriel/
LOCATION:L’atelier de Tatouk\, 10 rue de la Pinterie\, Fougères\, 35300\, France
CATEGORIES:Tous petits
END:VEVENT
BEGIN:VEVENT
DTSTART;TZID=Europe/Paris:20260216T103000
DTEND;TZID=Europe/Paris:20260216T113000
DTSTAMP:20260420T185100
CREATED:20260125T224731Z
LAST-MODIFIED:20260125T225501Z
UID:681-1771237800-1771241400@www.latelierdetatouk.com
SUMMARY:Atelier sensoriel
DESCRIPTION:  \nUn moment doux et amusant pour explorer\, toucher\, transvaser et découvrir le monde avec tous ses sens. \nDe 6 mois à 3 ans. \nATTENTION : pensez à réserver une place pour l’enfant ET une place pour l’adulte accompagnant.
URL:https://www.latelierdetatouk.com/accueil-planning-et-reservation/atelier-sensoriel-7/
LOCATION:L’atelier de Tatouk\, 10 rue de la Pinterie\, Fougères\, 35300\, France
CATEGORIES:Tous petits
END:VEVENT
BEGIN:VEVENT
DTSTART;TZID=Europe/Paris:20260218T110000
DTEND;TZID=Europe/Paris:20260218T120000
DTSTAMP:20260420T185100
CREATED:20260125T225418Z
LAST-MODIFIED:20260125T225418Z
UID:691-1771412400-1771416000@www.latelierdetatouk.com
SUMMARY:Atelier sensoriel
DESCRIPTION:  \nUn moment doux et amusant pour explorer\, toucher\, transvaser et découvrir le monde avec tous ses sens. \nDe 6 mois à 3 ans. \nATTENTION : pensez à réserver une place pour l’enfant ET une place pour l’adulte accompagnant.
URL:https://www.latelierdetatouk.com/accueil-planning-et-reservation/atelier-sensoriel-8/
LOCATION:L’atelier de Tatouk\, 10 rue de la Pinterie\, Fougères\, 35300\, France
CATEGORIES:Tous petits
END:VEVENT
BEGIN:VEVENT
DTSTART;TZID=Europe/Paris:20260221T103000
DTEND;TZID=Europe/Paris:20260221T113000
DTSTAMP:20260420T185100
CREATED:20260125T230414Z
LAST-MODIFIED:20260125T230414Z
UID:704-1771669800-1771673400@www.latelierdetatouk.com
SUMMARY:Atelier sensoriel
DESCRIPTION:  \nUn moment doux et amusant pour explorer\, toucher\, transvaser et découvrir le monde avec tous ses sens. \nDe 6 mois à 3 ans. \nATTENTION : pensez à réserver une place pour l’enfant ET une place pour l’adulte accompagnant.
URL:https://www.latelierdetatouk.com/accueil-planning-et-reservation/atelier-sensoriel-9/
LOCATION:L’atelier de Tatouk\, 10 rue de la Pinterie\, Fougères\, 35300\, France
CATEGORIES:Tous petits
END:VEVENT
BEGIN:VEVENT
DTSTART;TZID=Europe/Paris:20260223T103000
DTEND;TZID=Europe/Paris:20260223T113000
DTSTAMP:20260420T185100
CREATED:20260125T231226Z
LAST-MODIFIED:20260125T231226Z
UID:710-1771842600-1771846200@www.latelierdetatouk.com
SUMMARY:Atelier sensoriel
DESCRIPTION:  \nUn moment doux et amusant pour explorer\, toucher\, transvaser et découvrir le monde avec tous ses sens. \nDe 6 mois à 3 ans. \nPréparation et dégustation d’un jus de fruits frais. \nATTENTION : pensez à réserver une place pour l’enfant ET une place pour l’adulte accompagnant.
URL:https://www.latelierdetatouk.com/accueil-planning-et-reservation/atelier-sensoriel-10/
LOCATION:L’atelier de Tatouk\, 10 rue de la Pinterie\, Fougères\, 35300\, France
CATEGORIES:Tous petits
END:VEVENT
BEGIN:VEVENT
DTSTART;TZID=Europe/Paris:20260225T103000
DTEND;TZID=Europe/Paris:20260225T113000
DTSTAMP:20260420T185100
CREATED:20260125T232048Z
LAST-MODIFIED:20260125T232048Z
UID:721-1772015400-1772019000@www.latelierdetatouk.com
SUMMARY:Atelier sensoriel
DESCRIPTION:  \nUn moment doux et amusant pour explorer\, toucher\, transvaser et découvrir le monde avec tous ses sens. \nDe 6 mois à 3 ans. \nATTENTION : pensez à réserver une place pour l’enfant ET une place pour l’adulte accompagnant.
URL:https://www.latelierdetatouk.com/accueil-planning-et-reservation/atelier-sensoriel-11/
LOCATION:L’atelier de Tatouk\, 10 rue de la Pinterie\, Fougères\, 35300\, France
CATEGORIES:Tous petits
END:VEVENT
BEGIN:VEVENT
DTSTART;TZID=Europe/Paris:20260228T110000
DTEND;TZID=Europe/Paris:20260228T120000
DTSTAMP:20260420T185100
CREATED:20260125T233631Z
LAST-MODIFIED:20260125T233631Z
UID:735-1772276400-1772280000@www.latelierdetatouk.com
SUMMARY:Atelier sensoriel
DESCRIPTION:  \nUn moment doux et amusant pour explorer\, toucher\, transvaser et découvrir le monde avec tous ses sens. \nDe 6 mois à 3 ans. \nPréparation et dégustation de jus de fruits frais. \nATTENTION : pensez à réserver une place pour l’enfant ET une place pour l’adulte accompagnant.
URL:https://www.latelierdetatouk.com/accueil-planning-et-reservation/atelier-sensoriel-12/
LOCATION:L’atelier de Tatouk\, 10 rue de la Pinterie\, Fougères\, 35300\, France
CATEGORIES:Tous petits
END:VEVENT
END:VCALENDAR