BEGIN:VCALENDAR
VERSION:2.0
PRODID:-// - ECPv6.15.20//NONSGML v1.0//EN
CALSCALE:GREGORIAN
METHOD:PUBLISH
X-ORIGINAL-URL:https://www.latelierdetatouk.com
X-WR-CALDESC:Évènements pour 
REFRESH-INTERVAL;VALUE=DURATION:PT1H
X-Robots-Tag:noindex
X-PUBLISHED-TTL:PT1H
BEGIN:VTIMEZONE
TZID:Europe/Paris
BEGIN:DAYLIGHT
TZOFFSETFROM:+0100
TZOFFSETTO:+0200
TZNAME:CEST
DTSTART:20250330T010000
END:DAYLIGHT
BEGIN:STANDARD
TZOFFSETFROM:+0200
TZOFFSETTO:+0100
TZNAME:CET
DTSTART:20251026T010000
END:STANDARD
BEGIN:DAYLIGHT
TZOFFSETFROM:+0100
TZOFFSETTO:+0200
TZNAME:CEST
DTSTART:20260329T010000
END:DAYLIGHT
BEGIN:STANDARD
TZOFFSETFROM:+0200
TZOFFSETTO:+0100
TZNAME:CET
DTSTART:20261025T010000
END:STANDARD
BEGIN:DAYLIGHT
TZOFFSETFROM:+0100
TZOFFSETTO:+0200
TZNAME:CEST
DTSTART:20270328T010000
END:DAYLIGHT
BEGIN:STANDARD
TZOFFSETFROM:+0200
TZOFFSETTO:+0100
TZNAME:CET
DTSTART:20271031T010000
END:STANDARD
END:VTIMEZONE
BEGIN:VEVENT
DTSTART;TZID=Europe/Paris:20260420T090000
DTEND;TZID=Europe/Paris:20260420T120000
DTSTAMP:20260420T171140
CREATED:20260227T122224Z
LAST-MODIFIED:20260227T122224Z
UID:773-1776675600-1776686400@www.latelierdetatouk.com
SUMMARY:Atelier en intervention extérieure
DESCRIPTION:Aujourd’hui\, L’Atelier de Tatouk se déplace pour animer un atelier pédagogique en partenariat avec une structure extérieure.
URL:https://www.latelierdetatouk.com/accueil-planning-et-reservation/atelier-en-intervention-exterieure-2/
END:VEVENT
BEGIN:VEVENT
DTSTART;TZID=Europe/Paris:20260420T150000
DTEND;TZID=Europe/Paris:20260420T163000
DTSTAMP:20260420T171140
CREATED:20260317T134744Z
LAST-MODIFIED:20260317T134744Z
UID:954-1776697200-1776702600@www.latelierdetatouk.com
SUMMARY:Atelier scientifique
DESCRIPTION:Des expériences rigolotes\, des réactions étonnantes\, des découvertes qui font “wahou” !\nLes ateliers scientifiques de L’Atelier de Tatouk permettent aux enfants de jouer les petits chercheurs tout en s’amusant. \nFabrication d’un arc-en-ciel ! \nÀ partir de 5 ans. Atelier sans la présence des parents.
URL:https://www.latelierdetatouk.com/accueil-planning-et-reservation/atelier-scientifique-15/
LOCATION:L’atelier de Tatouk\, 10 rue de la Pinterie\, Fougères\, 35300\, France
END:VEVENT
END:VCALENDAR